BEGIN:VCALENDAR
VERSION:2.0
PRODID:icalendar-ruby
CALSCALE:GREGORIAN
METHOD:PUBLISH
BEGIN:VEVENT
DTSTAMP:20260424T122735Z
UID:13-529517@pfaithc.org
DTSTART:20260829T143000Z
DTEND:20260829T153000Z
CLASS:PUBLIC
CREATED:20260424T072102
DESCRIPTION:
LAST-MODIFIED:20260424T072102
LOCATION:305 Goodrich Ave. St. Paul\, MN 55102
SUMMARY:Saturday Morning Women’s Bible Study
URL;VALUE=URI:https://www.pfaithc.org/events/saturday-morning-women-s-bible
 -study/2026-08-29
ATTACH;FILENAME=services.png;FMTTYPE=image/png:https://dq5pwpg1q8ru0.cloudf
 ront.net/2025/01/21/02/56/43/a23c3615-d2ff-4a67-90e7-e0bed6219959/services
 .png
END:VEVENT
END:VCALENDAR
